BEGIN:VCALENDAR
PRODID:-//eluceo/ical//2.0/EN
VERSION:2.0
CALSCALE:GREGORIAN
BEGIN:VEVENT
UID:hey.bayern.676385.6406123
DTSTAMP:20260425T024557Z
SUMMARY:Kirchenmusik in der Franziskanerkirche Salzburg -Vorabendmesse
DTSTART;TZID=Europe/Berlin:20260516T190000
DTEND;TZID=Europe/Berlin:20260516T235959
LOCATION:Franziskanergasse 5\, 5020 Salzburg\, Österreich
GEO:47.797816;13.044134
X-APPLE-STRUCTURED-LOCATION;VALUE=URI;X-ADDRESS=Franziskanergasse 5\, 5020 
 Salzburg\, Österreich;X-APPLE-RADIUS=49;X-TITLE=:geo:47.797816,13.044134
URL;VALUE=URI:https://hey-schweiz.com/events/676385
END:VEVENT
END:VCALENDAR
