BEGIN:VCALENDAR
PRODID:-//eluceo/ical//2.0/EN
VERSION:2.0
CALSCALE:GREGORIAN
BEGIN:VEVENT
UID:hey.bayern.676513.6555845
DTSTAMP:20260423T010926Z
SUMMARY:WOODSTOCK Weinroas-2026
DTSTART;TZID=Europe/Berlin:20260423T170000
DTEND;TZID=Europe/Berlin:20260423T220000
LOCATION:Obere Hauptstraße 2-4\, 7142 Illmitz\, Österreich
GEO:47.761506;16.801665
X-APPLE-STRUCTURED-LOCATION;VALUE=URI;X-ADDRESS=Obere Hauptstraße 2-4\, 71
 42 Illmitz\, Österreich;X-APPLE-RADIUS=49;X-TITLE=:geo:47.761506,16.80166
 5
URL;VALUE=URI:https://hey-schweiz.com/events/676513
END:VEVENT
END:VCALENDAR
