BEGIN:VCALENDAR
PRODID:-//eluceo/ical//2.0/EN
VERSION:2.0
CALSCALE:GREGORIAN
BEGIN:VEVENT
UID:hey.bayern.676714.6547115
DTSTAMP:20260421T053639Z
SUMMARY:Klimt-Mahlerschiff Genussfahrten
DTSTART;TZID=Europe/Berlin:20260528T184500
DTEND;TZID=Europe/Berlin:20260528T211500
LOCATION:Landungsplatz\, 4864 Attersee am Attersee\, Österreich
GEO:47.914688;13.538695
X-APPLE-STRUCTURED-LOCATION;VALUE=URI;X-ADDRESS=Landungsplatz\, 4864 Atters
 ee am Attersee\, Österreich;X-APPLE-RADIUS=49;X-TITLE=:geo:47.914688,13.5
 38695
URL;VALUE=URI:https://hey-schweiz.com/events/676714
END:VEVENT
END:VCALENDAR
