BEGIN:VCALENDAR
PRODID:-//eluceo/ical//2.0/EN
VERSION:2.0
CALSCALE:GREGORIAN
BEGIN:VEVENT
UID:hey.bayern.677165.6418622
DTSTAMP:20260422T234819Z
SUMMARY:Direktbus Hinfahrt zum Spullersee oder Formarinsee
DTSTART;TZID=Europe/Berlin:20260704T125000
DTEND;TZID=Europe/Berlin:20260705T125000
URL;VALUE=URI:https://hey-schweiz.com/events/677165
END:VEVENT
END:VCALENDAR
