BEGIN:VCALENDAR
PRODID:-//eluceo/ical//2.0/EN
VERSION:2.0
CALSCALE:GREGORIAN
BEGIN:VEVENT
UID:hey.bayern.677468.6549105
DTSTAMP:20260421T050204Z
SUMMARY:Offene Freitagsführung im Schloss Weinberg
DTSTART;TZID=Europe/Berlin:20260605T140000
DTEND;TZID=Europe/Berlin:20260605T151500
LOCATION:Weinberg 1\, 4292 Kefermarkt\, Österreich
GEO:48.448620;14.537390
X-APPLE-STRUCTURED-LOCATION;VALUE=URI;X-ADDRESS=Weinberg 1\, 4292 Kefermark
 t\, Österreich;X-APPLE-RADIUS=49;X-TITLE=:geo:48.448620,14.537390
URL;VALUE=URI:https://hey-schweiz.com/events/677468
END:VEVENT
END:VCALENDAR
