BEGIN:VCALENDAR
PRODID:-//eluceo/ical//2.0/EN
VERSION:2.0
CALSCALE:GREGORIAN
BEGIN:VEVENT
UID:hey.bayern.678236.6553936
DTSTAMP:20260421T230820Z
SUMMARY:Sonnwendfeuer
DTSTART;TZID=Europe/Berlin:20260626T170000
DTEND;TZID=Europe/Berlin:20260626T235959
LOCATION:3335 Weyer\, Österreich
GEO:47.857256;14.663561
X-APPLE-STRUCTURED-LOCATION;VALUE=URI;X-ADDRESS=3335 Weyer\, Österreich;X-
 APPLE-RADIUS=49;X-TITLE=:geo:47.857256,14.663561
URL;VALUE=URI:https://hey-schweiz.com/events/678236
END:VEVENT
END:VCALENDAR
