BEGIN:VCALENDAR
PRODID:-//eluceo/ical//2.0/EN
VERSION:2.0
CALSCALE:GREGORIAN
BEGIN:VEVENT
UID:hey.bayern.679901.6435741
DTSTAMP:20260422T153138Z
SUMMARY:Lange Nacht der Geschichten
DTSTART;TZID=Europe/Berlin:20260523T193000
DTEND;TZID=Europe/Berlin:20260523T235959
LOCATION:Hofgasse 11\, 8010 Graz\, Österreich
GEO:47.072794;15.441546
X-APPLE-STRUCTURED-LOCATION;VALUE=URI;X-ADDRESS=Hofgasse 11\, 8010 Graz\, 
 Österreich;X-APPLE-RADIUS=49;X-TITLE=:geo:47.072794,15.441546
URL;VALUE=URI:https://hey-schweiz.com/events/679901
END:VEVENT
END:VCALENDAR
