BEGIN:VCALENDAR
PRODID:-//eluceo/ical//2.0/EN
VERSION:2.0
CALSCALE:GREGORIAN
BEGIN:VEVENT
UID:hey.bayern.682356.6453791
DTSTAMP:20260423T011022Z
SUMMARY:Fahrradwerkstatt
DTSTART;TZID=Europe/Berlin:20260312T150000
DTEND;TZID=Europe/Berlin:20260312T180000
LOCATION:Reichsstraße 3\, 6800 Feldkirch\, Österreich
GEO:47.260080;9.617930
X-APPLE-STRUCTURED-LOCATION;VALUE=URI;X-ADDRESS=Reichsstraße 3\, 6800 Feld
 kirch\, Österreich;X-APPLE-RADIUS=49;X-TITLE=:geo:47.260080,9.617930
URL;VALUE=URI:https://hey-schweiz.com/events/682356
END:VEVENT
END:VCALENDAR
