BEGIN:VCALENDAR
PRODID:-//eluceo/ical//2.0/EN
VERSION:2.0
CALSCALE:GREGORIAN
BEGIN:VEVENT
UID:hey.bayern.682920.6457687
DTSTAMP:20260422T111902Z
SUMMARY:Vital-Pass Erwachsene: Aikidō Kampfkunst
DTSTART;TZID=Europe/Berlin:20260311T183000
DTEND;TZID=Europe/Berlin:20260311T193000
LOCATION:Sporthalle Donawitz\, Kerpelystraße 11\, 8700 Leoben\, Österreic
 h
URL;VALUE=URI:https://hey-schweiz.com/events/682920
END:VEVENT
END:VCALENDAR
