BEGIN:VCALENDAR
PRODID:-//eluceo/ical//2.0/EN
VERSION:2.0
CALSCALE:GREGORIAN
BEGIN:VEVENT
UID:hey.bayern.683223.6459927
DTSTAMP:20260420T233655Z
SUMMARY:Schwazer Bauernmarkt
DTSTART;TZID=Europe/Berlin:20261114T073000
DTEND;TZID=Europe/Berlin:20261114T103000
LOCATION:6130 Schwaz\, Österreich
URL;VALUE=URI:https://hey-schweiz.com/events/683223
END:VEVENT
END:VCALENDAR
