BEGIN:VCALENDAR
PRODID:-//eluceo/ical//2.0/EN
VERSION:2.0
CALSCALE:GREGORIAN
BEGIN:VEVENT
UID:hey.bayern.683253.6460379
DTSTAMP:20260420T161510Z
SUMMARY:Töpferschnupperkurs
DTSTART;TZID=Europe/Berlin:20261214T140000
DTEND;TZID=Europe/Berlin:20261214T170000
LOCATION:6655 Kaisers\, Österreich
URL;VALUE=URI:https://hey-schweiz.com/events/683253
END:VEVENT
END:VCALENDAR
