BEGIN:VCALENDAR
PRODID:-//eluceo/ical//2.0/EN
VERSION:2.0
CALSCALE:GREGORIAN
BEGIN:VEVENT
UID:hey.bayern.684417.6472660
DTSTAMP:20260423T192441Z
SUMMARY:Ralph Vaughan Williams & Giacomo Puccini
DTSTART;TZID=Europe/Berlin:20260515T190000
DTEND;TZID=Europe/Berlin:20260515T235959
LOCATION:Domplatz 1a\, 5020 Salzburg\, Österreich
GEO:47.797978;13.045989
X-APPLE-STRUCTURED-LOCATION;VALUE=URI;X-ADDRESS=Domplatz 1a\, 5020 Salzburg
 \, Österreich;X-APPLE-RADIUS=49;X-TITLE=:geo:47.797978,13.045989
URL;VALUE=URI:https://hey-schweiz.com/events/684417
END:VEVENT
END:VCALENDAR
