BEGIN:VCALENDAR
PRODID:-//eluceo/ical//2.0/EN
VERSION:2.0
CALSCALE:GREGORIAN
BEGIN:VEVENT
UID:hey.bayern.684545.6473396
DTSTAMP:20260422T013401Z
SUMMARY:Aufmarsch der Musizierwochenmusi mit Samson anschl. Aufg'spielt bei
  den Wirt'n
DTSTART;TZID=Europe/Berlin:20260806T194500
DTEND;TZID=Europe/Berlin:20260806T235959
LOCATION:Zugallistraße 10\, 5020 Salzburg\, Österreich
GEO:47.133641;13.679387
X-APPLE-STRUCTURED-LOCATION;VALUE=URI;X-ADDRESS=Zugallistraße 10\, 5020 Sa
 lzburg\, Österreich;X-APPLE-RADIUS=49;X-TITLE=:geo:47.133641,13.679387
URL;VALUE=URI:https://hey-schweiz.com/events/684545
END:VEVENT
END:VCALENDAR
