BEGIN:VCALENDAR
PRODID:-//eluceo/ical//2.0/EN
VERSION:2.0
CALSCALE:GREGORIAN
BEGIN:VEVENT
UID:hey.bayern.685700.6476686
DTSTAMP:20260423T063041Z
SUMMARY:Wochenmarkt
DTSTART;TZID=Europe/Berlin:20260516T070000
DTEND;TZID=Europe/Berlin:20260516T133000
LOCATION:88131 Lindau (Bodensee)
GEO:47.548615;9.686272
X-APPLE-STRUCTURED-LOCATION;VALUE=URI;X-ADDRESS=88131 Lindau (Bodensee);X-A
 PPLE-RADIUS=49;X-TITLE=:geo:47.548615,9.686272
URL;VALUE=URI:https://hey-schweiz.com/events/685700
END:VEVENT
END:VCALENDAR
