BEGIN:VCALENDAR
PRODID:-//eluceo/ical//2.0/EN
VERSION:2.0
CALSCALE:GREGORIAN
BEGIN:VEVENT
UID:hey.bayern.685808.6556185
DTSTAMP:20260423T024007Z
SUMMARY:Die verborgene Welt der Nachtfalter
DTSTART;TZID=Europe/Berlin:20260619T203000
DTEND;TZID=Europe/Berlin:20260620T203000
LOCATION:7332 Kobersdorf\, Österreich
GEO:47.596145;16.365690
X-APPLE-STRUCTURED-LOCATION;VALUE=URI;X-ADDRESS=7332 Kobersdorf\, Österrei
 ch;X-APPLE-RADIUS=49;X-TITLE=:geo:47.596145,16.365690
URL;VALUE=URI:https://hey-schweiz.com/events/685808
END:VEVENT
END:VCALENDAR
