BEGIN:VCALENDAR
PRODID:-//eluceo/ical//2.0/EN
VERSION:2.0
CALSCALE:GREGORIAN
BEGIN:VEVENT
UID:hey.bayern.685809.6556186
DTSTAMP:20260423T024007Z
SUMMARY:Die verborgene Welt der Nachtfalter live erleben
DTSTART;TZID=Europe/Berlin:20260522T210000
DTEND;TZID=Europe/Berlin:20260523T210000
LOCATION:7212 Forchtenstein\, Österreich
GEO:47.702005;16.349062
X-APPLE-STRUCTURED-LOCATION;VALUE=URI;X-ADDRESS=7212 Forchtenstein\, Öster
 reich;X-APPLE-RADIUS=49;X-TITLE=:geo:47.702005,16.349062
URL;VALUE=URI:https://hey-schweiz.com/events/685809
END:VEVENT
END:VCALENDAR
