BEGIN:VCALENDAR
PRODID:-//eluceo/ical//2.0/EN
VERSION:2.0
CALSCALE:GREGORIAN
BEGIN:VEVENT
UID:hey.bayern.686509.6547648
DTSTAMP:20260421T050249Z
SUMMARY:Opening Lakebase Traunsee
DTSTART;TZID=Europe/Berlin:20260503T100000
DTEND;TZID=Europe/Berlin:20260503T180000
LOCATION:Freizeitanlage Rindbach\, Strandbadstraße\, 4802 Ebensee\, Öster
 reich
GEO:47.810543;13.790417
X-APPLE-STRUCTURED-LOCATION;VALUE=URI;X-ADDRESS=Freizeitanlage Rindbach\, S
 trandbadstraße\, 4802 Ebensee\, Österreich;X-APPLE-RADIUS=49;X-TITLE=:ge
 o:47.810543,13.790417
URL;VALUE=URI:https://hey-schweiz.com/events/686509
END:VEVENT
END:VCALENDAR
