BEGIN:VCALENDAR
PRODID:-//eluceo/ical//2.0/EN
VERSION:2.0
CALSCALE:GREGORIAN
BEGIN:VEVENT
UID:hey.bayern.687030.6545040
DTSTAMP:20260422T021251Z
SUMMARY:Slam am Hof
DTSTART;TZID=Europe/Berlin:20260523T180000
DTEND;TZID=Europe/Berlin:20260523T200000
LOCATION:Prosintschach 4\, 9062 Moosburg\, Österreich
URL;VALUE=URI:https://hey-schweiz.com/events/687030
END:VEVENT
END:VCALENDAR
