BEGIN:VCALENDAR
PRODID:-//eluceo/ical//2.0/EN
VERSION:2.0
CALSCALE:GREGORIAN
BEGIN:VEVENT
UID:hey.bayern.687356.6491004
DTSTAMP:20260421T020726Z
SUMMARY:Streatfood Circus x Austrian Streetfood Awards
DTSTART;TZID=Europe/Berlin:20260426T100000
DTEND;TZID=Europe/Berlin:20260426T180000
LOCATION:Hannakstaße 5\, 5023 Salzburg\, Österreich
URL;VALUE=URI:https://hey-schweiz.com/events/687356
END:VEVENT
END:VCALENDAR
