BEGIN:VCALENDAR
PRODID:-//eluceo/ical//2.0/EN
VERSION:2.0
CALSCALE:GREGORIAN
BEGIN:VEVENT
UID:hey.bayern.688267.6504290
DTSTAMP:20260422T134346Z
SUMMARY:Frühstücken im fliegenden Honigtopf
DTSTART;TZID=Europe/Berlin:20260422T083000
DTEND;TZID=Europe/Berlin:20260422T143000
LOCATION:Tauplitz 335\, 8982 Bad Mitterndorf\, Österreich
URL;VALUE=URI:https://hey-schweiz.com/events/688267
END:VEVENT
END:VCALENDAR
