BEGIN:VCALENDAR
PRODID:-//eluceo/ical//2.0/EN
VERSION:2.0
CALSCALE:GREGORIAN
BEGIN:VEVENT
UID:hey.bayern.689374.6514925
DTSTAMP:20260423T063014Z
SUMMARY:Pflanzentauschmarkt
DTSTART;TZID=Europe/Berlin:20260515T150000
DTEND;TZID=Europe/Berlin:20260515T235959
LOCATION:3335 Weyer\, Österreich
GEO:47.857256;14.663561
X-APPLE-STRUCTURED-LOCATION;VALUE=URI;X-ADDRESS=3335 Weyer\, Österreich;X-
 APPLE-RADIUS=49;X-TITLE=:geo:47.857256,14.663561
URL;VALUE=URI:https://hey-schweiz.com/events/689374
END:VEVENT
END:VCALENDAR
