BEGIN:VCALENDAR
PRODID:-//eluceo/ical//2.0/EN
VERSION:2.0
CALSCALE:GREGORIAN
BEGIN:VEVENT
UID:hey.bayern.689926.6517947
DTSTAMP:20260422T210248Z
SUMMARY:Geh mit - herz.com | Geführter Spaziergang
DTSTART;TZID=Europe/Berlin:20260401T100000
DTEND;TZID=Europe/Berlin:20260401T113000
LOCATION:Hauptstraße 52a\, 6800 Feldkirch\, Österreich
GEO:47.259500;9.595520
X-APPLE-STRUCTURED-LOCATION;VALUE=URI;X-ADDRESS=Hauptstraße 52a\, 6800 Fel
 dkirch\, Österreich;X-APPLE-RADIUS=49;X-TITLE=:geo:47.259500,9.595520
URL;VALUE=URI:https://hey-schweiz.com/events/689926
END:VEVENT
END:VCALENDAR
