BEGIN:VCALENDAR
PRODID:-//eluceo/ical//2.0/EN
VERSION:2.0
CALSCALE:GREGORIAN
BEGIN:VEVENT
UID:hey.bayern.690597.6521361
DTSTAMP:20260422T111913Z
SUMMARY:Maibaumaufstellen
DTSTART;TZID=Europe/Berlin:20260430T173000
DTEND;TZID=Europe/Berlin:20260430T235959
LOCATION:St. Andrä-Höch 74\, 8444 St. Andrä-Höch\, Österreich
GEO:46.791129;15.377813
X-APPLE-STRUCTURED-LOCATION;VALUE=URI;X-ADDRESS=St. Andrä-Höch 74\, 8444 
 St. Andrä-Höch\, Österreich;X-APPLE-RADIUS=49;X-TITLE=:geo:46.791129,15
 .377813
URL;VALUE=URI:https://hey-schweiz.com/events/690597
END:VEVENT
END:VCALENDAR
