BEGIN:VCALENDAR
PRODID:-//eluceo/ical//2.0/EN
VERSION:2.0
CALSCALE:GREGORIAN
BEGIN:VEVENT
UID:hey.bayern.690598.6521362
DTSTAMP:20260422T111905Z
SUMMARY:Maibaumaufstellen
DTSTART;TZID=Europe/Berlin:20260430T180000
DTEND;TZID=Europe/Berlin:20260430T235959
LOCATION:Gleinstätten 80a\, 8443 Gleinstätten\, Österreich
GEO:46.751905;15.366108
X-APPLE-STRUCTURED-LOCATION;VALUE=URI;X-ADDRESS=Gleinstätten 80a\, 8443 Gl
 einstätten\, Österreich;X-APPLE-RADIUS=49;X-TITLE=:geo:46.751905,15.3661
 08
URL;VALUE=URI:https://hey-schweiz.com/events/690598
END:VEVENT
END:VCALENDAR
