BEGIN:VCALENDAR
PRODID:-//eluceo/ical//2.0/EN
VERSION:2.0
CALSCALE:GREGORIAN
BEGIN:VEVENT
UID:hey.bayern.690939.6524037
DTSTAMP:20260425T025907Z
SUMMARY:Purzelbäume auf der Klangwiese - Mittendrin-Konzert
DTSTART;TZID=Europe/Berlin:20260516T160000
DTEND;TZID=Europe/Berlin:20260516T235959
LOCATION:Schwarzstraße 28\, 5020 Salzburg\, Österreich
GEO:47.803550;13.041992
X-APPLE-STRUCTURED-LOCATION;VALUE=URI;X-ADDRESS=Schwarzstraße 28\, 5020 Sa
 lzburg\, Österreich;X-APPLE-RADIUS=49;X-TITLE=:geo:47.803550,13.041992
URL;VALUE=URI:https://hey-schweiz.com/events/690939
END:VEVENT
END:VCALENDAR
