BEGIN:VCALENDAR
PRODID:-//eluceo/ical//2.0/EN
VERSION:2.0
CALSCALE:GREGORIAN
BEGIN:VEVENT
UID:hey.bayern.690972.6524244
DTSTAMP:20260421T173001Z
SUMMARY:The Music of Ludovico Einaudi - Tribute
DTSTART;TZID=Europe/Berlin:20260514T190000
DTEND;TZID=Europe/Berlin:20260514T235959
LOCATION:Schwarzstraße 28\, 5020 Salzburg\, Österreich
GEO:47.803661;13.041417
X-APPLE-STRUCTURED-LOCATION;VALUE=URI;X-ADDRESS=Schwarzstraße 28\, 5020 Sa
 lzburg\, Österreich;X-APPLE-RADIUS=49;X-TITLE=:geo:47.803661,13.041417
URL;VALUE=URI:https://hey-schweiz.com/events/690972
END:VEVENT
END:VCALENDAR
