BEGIN:VCALENDAR
PRODID:-//eluceo/ical//2.0/EN
VERSION:2.0
CALSCALE:GREGORIAN
BEGIN:VEVENT
UID:hey.bayern.692338.6535229
DTSTAMP:20260422T153258Z
SUMMARY:Crossing Strings
DTSTART;TZID=Europe/Berlin:20260528T200000
DTEND;TZID=Europe/Berlin:20260528T235959
URL;VALUE=URI:https://hey-schweiz.com/events/692338
END:VEVENT
END:VCALENDAR
