BEGIN:VCALENDAR
PRODID:-//eluceo/ical//2.0/EN
VERSION:2.0
CALSCALE:GREGORIAN
BEGIN:VEVENT
UID:hey.bayern.692551.6556262
DTSTAMP:20260423T011022Z
SUMMARY:Entdeckertour durch den Naturpark Rosalia-Kogelberg
DTSTART;TZID=Europe/Berlin:20260509T093000
DTEND;TZID=Europe/Berlin:20260510T093000
LOCATION:Bahnstraße 500\, 7222 Rohrbach bei Mattersburg\, Österreich
GEO:47.716081;16.431091
X-APPLE-STRUCTURED-LOCATION;VALUE=URI;X-ADDRESS=Bahnstraße 500\, 7222 Rohr
 bach bei Mattersburg\, Österreich;X-APPLE-RADIUS=49;X-TITLE=:geo:47.71608
 1,16.431091
URL;VALUE=URI:https://hey-schweiz.com/events/692551
END:VEVENT
END:VCALENDAR
