BEGIN:VCALENDAR
PRODID:-//eluceo/ical//2.0/EN
VERSION:2.0
CALSCALE:GREGORIAN
BEGIN:VEVENT
UID:hey.bayern.693228.6542134
DTSTAMP:20260425T025128Z
SUMMARY:Salzburger Museumswochenende - Hoch über den Dächern von Salzburg
DTSTART;TZID=Europe/Berlin:20260516T103000
DTEND;TZID=Europe/Berlin:20260516T235959
LOCATION:Neue Residenz\, 5020 Salzburg\, Österreich
GEO:47.798267;13.047688
X-APPLE-STRUCTURED-LOCATION;VALUE=URI;X-ADDRESS=Neue Residenz\, 5020 Salzbu
 rg\, Österreich;X-APPLE-RADIUS=49;X-TITLE=:geo:47.798267,13.047688
URL;VALUE=URI:https://hey-schweiz.com/events/693228
END:VEVENT
END:VCALENDAR
