BEGIN:VCALENDAR
PRODID:-//eluceo/ical//2.0/EN
VERSION:2.0
CALSCALE:GREGORIAN
BEGIN:VEVENT
UID:hey.bayern.693446.6544445
DTSTAMP:20260422T213123Z
SUMMARY:Almparty auf der LAHÜ mit "Lisa Miko"
DTSTART;TZID=Europe/Berlin:20260714T190000
DTEND;TZID=Europe/Berlin:20260714T235959
URL;VALUE=URI:https://hey-schweiz.com/events/693446
END:VEVENT
END:VCALENDAR
