BEGIN:VCALENDAR
PRODID:-//eluceo/ical//2.0/EN
VERSION:2.0
CALSCALE:GREGORIAN
BEGIN:VEVENT
UID:hey.bayern.693447.6544446
DTSTAMP:20260422T213123Z
SUMMARY:Almparty auf der LAHÜ mit der "Mountain Crew"
DTSTART;TZID=Europe/Berlin:20260728T190000
DTEND;TZID=Europe/Berlin:20260728T235959
URL;VALUE=URI:https://hey-schweiz.com/events/693447
END:VEVENT
END:VCALENDAR
