BEGIN:VCALENDAR
PRODID:-//eluceo/ical//2.0/EN
VERSION:2.0
CALSCALE:GREGORIAN
BEGIN:VEVENT
UID:hey.bayern.693656.6545986
DTSTAMP:20260422T165549Z
SUMMARY:Der Tunnelblick: Koroška – Steiermark / Kärnten – Štajerska 
 / Styria - Carinthia
DTSTART;TZID=Europe/Berlin:20260828T130000
DTEND;TZID=Europe/Berlin:20260828T180000
URL;VALUE=URI:https://hey-schweiz.com/events/693656
END:VEVENT
END:VCALENDAR
