BEGIN:VCALENDAR
PRODID:-//eluceo/ical//2.0/EN
VERSION:2.0
CALSCALE:GREGORIAN
BEGIN:VEVENT
UID:hey.bayern.693690.6546399
DTSTAMP:20260423T063037Z
SUMMARY:Filmforum: Vier minus drei
DTSTART;TZID=Europe/Berlin:20260514T193000
DTEND;TZID=Europe/Berlin:20260514T223000
LOCATION:Zwanzigerstraße 3\, 3334 Lindau\, Österreich
GEO:47.550753;9.692688
X-APPLE-STRUCTURED-LOCATION;VALUE=URI;X-ADDRESS=Zwanzigerstraße 3\, 3334 L
 indau\, Österreich;X-APPLE-RADIUS=49;X-TITLE=:geo:47.550753,9.692688
URL;VALUE=URI:https://hey-schweiz.com/events/693690
END:VEVENT
END:VCALENDAR
