BEGIN:VCALENDAR
PRODID:-//eluceo/ical//2.0/EN
VERSION:2.0
CALSCALE:GREGORIAN
BEGIN:VEVENT
UID:hey.bayern.693850.6547649
DTSTAMP:20260423T011022Z
SUMMARY:Salon Rosé
DTSTART;TZID=Europe/Berlin:20261119T160000
DTEND;TZID=Europe/Berlin:20261120T160000
LOCATION:Kellerweg 15\, 7025 Pöttelsdorf\, Österreich
GEO:47.756090;16.434662
X-APPLE-STRUCTURED-LOCATION;VALUE=URI;X-ADDRESS=Kellerweg 15\, 7025 Pöttel
 sdorf\, Österreich;X-APPLE-RADIUS=49;X-TITLE=:geo:47.756090,16.434662
URL;VALUE=URI:https://hey-schweiz.com/events/693850
END:VEVENT
END:VCALENDAR
