BEGIN:VCALENDAR
PRODID:-//eluceo/ical//2.0/EN
VERSION:2.0
CALSCALE:GREGORIAN
BEGIN:VEVENT
UID:hey.bayern.693870.6548010
DTSTAMP:20260423T010925Z
SUMMARY:Sturmparty
DTSTART;TZID=Europe/Berlin:20260917T160000
DTEND;TZID=Europe/Berlin:20260918T160000
LOCATION:Kellerweg 15\, 7025 Pöttelsdorf\, Österreich
GEO:47.756080;16.434620
X-APPLE-STRUCTURED-LOCATION;VALUE=URI;X-ADDRESS=Kellerweg 15\, 7025 Pöttel
 sdorf\, Österreich;X-APPLE-RADIUS=49;X-TITLE=:geo:47.756080,16.434620
URL;VALUE=URI:https://hey-schweiz.com/events/693870
END:VEVENT
END:VCALENDAR
