BEGIN:VCALENDAR
PRODID:-//eluceo/ical//2.0/EN
VERSION:2.0
CALSCALE:GREGORIAN
BEGIN:VEVENT
UID:hey.bayern.693917.6553480
DTSTAMP:20260420T204201Z
SUMMARY:Yoga im Lusspark
DTSTART;TZID=Europe/Berlin:20260818T093000
DTEND;TZID=Europe/Berlin:20260818T101500
LOCATION:6631 Lermoos\, Österreich
GEO:47.403520;10.884910
X-APPLE-STRUCTURED-LOCATION;VALUE=URI;X-ADDRESS=6631 Lermoos\, Österreich;
 X-APPLE-RADIUS=49;X-TITLE=:geo:47.403520,10.884910
URL;VALUE=URI:https://hey-schweiz.com/events/693917
END:VEVENT
END:VCALENDAR
