BEGIN:VCALENDAR
PRODID:-//eluceo/ical//2.0/EN
VERSION:2.0
CALSCALE:GREGORIAN
BEGIN:VEVENT
UID:hey.bayern.694020.6549015
DTSTAMP:20260422T234553Z
SUMMARY:Kulinarisches Herbst- & Genussfest
DTSTART;TZID=Europe/Berlin:20260912T140000
DTEND;TZID=Europe/Berlin:20260913T140000
LOCATION:An der Promenade 5\, 7141 Podersdorf am See\, Österreich
GEO:47.859640;16.831315
X-APPLE-STRUCTURED-LOCATION;VALUE=URI;X-ADDRESS=An der Promenade 5\, 7141 P
 odersdorf am See\, Österreich;X-APPLE-RADIUS=49;X-TITLE=:geo:47.859640,16
 .831315
URL;VALUE=URI:https://hey-schweiz.com/events/694020
END:VEVENT
END:VCALENDAR
