BEGIN:VCALENDAR
PRODID:-//eluceo/ical//2.0/EN
VERSION:2.0
CALSCALE:GREGORIAN
BEGIN:VEVENT
UID:hey.bayern.694168.6550129
DTSTAMP:20260421T061550Z
SUMMARY:Basteln mit Naturmaterialien - Heukörbe binden
DTSTART;TZID=Europe/Berlin:20260805T140000
DTEND;TZID=Europe/Berlin:20260805T235900
LOCATION:6653 Elbigenalp\, Österreich
URL;VALUE=URI:https://hey-schweiz.com/events/694168
END:VEVENT
END:VCALENDAR
