BEGIN:VCALENDAR
PRODID:-//eluceo/ical//2.0/EN
VERSION:2.0
CALSCALE:GREGORIAN
BEGIN:VEVENT
UID:hey.bayern.694178.6550242
DTSTAMP:20260423T135704Z
SUMMARY:Bilderbücher vorlesen im Rahmen der "Lies-was-Wochen 2026"
DTSTART;TZID=Europe/Berlin:20260503T093000
DTEND;TZID=Europe/Berlin:20260503T235959
LOCATION:Stubenberg 149\, 8223 Stubenberg am See\, Österreich
GEO:47.244250;15.803060
X-APPLE-STRUCTURED-LOCATION;VALUE=URI;X-ADDRESS=Stubenberg 149\, 8223 Stube
 nberg am See\, Österreich;X-APPLE-RADIUS=49;X-TITLE=:geo:47.244250,15.803
 060
URL;VALUE=URI:https://hey-schweiz.com/events/694178
END:VEVENT
END:VCALENDAR
