BEGIN:VCALENDAR
PRODID:-//eluceo/ical//2.0/EN
VERSION:2.0
CALSCALE:GREGORIAN
BEGIN:VEVENT
UID:hey.bayern.694242.6550497
DTSTAMP:20260420T215837Z
SUMMARY:Halloween Party
DTSTART;TZID=Europe/Berlin:20261031T190000
DTEND;TZID=Europe/Berlin:20261031T235959
LOCATION:Dorfwerfen 153\, 5452 Pfarrwerfen\, Österreich
URL;VALUE=URI:https://hey-schweiz.com/events/694242
END:VEVENT
END:VCALENDAR
