BEGIN:VCALENDAR
PRODID:-//eluceo/ical//2.0/EN
VERSION:2.0
CALSCALE:GREGORIAN
BEGIN:VEVENT
UID:hey.bayern.694282.6550662
DTSTAMP:20260421T224158Z
SUMMARY:Kunst an der Quelle
DTSTART;TZID=Europe/Berlin:20260606T140000
DTEND;TZID=Europe/Berlin:20260606T180000
LOCATION:Schwimmbadstraße\, 4540 Pfarrkirchen bei Bad Hall\, Österreich
GEO:48.032002;14.202716
X-APPLE-STRUCTURED-LOCATION;VALUE=URI;X-ADDRESS=Schwimmbadstraße\, 4540 Pf
 arrkirchen bei Bad Hall\, Österreich;X-APPLE-RADIUS=49;X-TITLE=:geo:48.03
 2002,14.202716
URL;VALUE=URI:https://hey-schweiz.com/events/694282
END:VEVENT
END:VCALENDAR
