BEGIN:VCALENDAR
PRODID:-//eluceo/ical//2.0/EN
VERSION:2.0
CALSCALE:GREGORIAN
BEGIN:VEVENT
UID:hey.bayern.694295.6550685
DTSTAMP:20260421T232657Z
SUMMARY:Lions Music Night: Mario Berger "Guitarras Mágicas"
DTSTART;TZID=Europe/Berlin:20260606T200000
DTEND;TZID=Europe/Berlin:20260606T235959
LOCATION:Stift 1\, 4550 Kremsmünster\, Österreich
GEO:48.053365;14.128766
X-APPLE-STRUCTURED-LOCATION;VALUE=URI;X-ADDRESS=Stift 1\, 4550 Kremsmünste
 r\, Österreich;X-APPLE-RADIUS=49;X-TITLE=:geo:48.053365,14.128766
URL;VALUE=URI:https://hey-schweiz.com/events/694295
END:VEVENT
END:VCALENDAR
