BEGIN:VCALENDAR
PRODID:-//eluceo/ical//2.0/EN
VERSION:2.0
CALSCALE:GREGORIAN
BEGIN:VEVENT
UID:hey.bayern.694297.6550687
DTSTAMP:20260423T025017Z
SUMMARY:Liszt Festival: Wiener KammerOrchester & Kateryna Titova
DTSTART;TZID=Europe/Berlin:20261022T183000
DTEND;TZID=Europe/Berlin:20261023T183000
LOCATION:Lisztstraße 46\, 7321 Raiding\, Österreich
URL;VALUE=URI:https://hey-schweiz.com/events/694297
END:VEVENT
END:VCALENDAR
