BEGIN:VCALENDAR
PRODID:-//eluceo/ical//2.0/EN
VERSION:2.0
CALSCALE:GREGORIAN
BEGIN:VEVENT
UID:hey.bayern.694317.6550803
DTSTAMP:20260422T111902Z
SUMMARY:Muttertagsmarkt Wildoner Badesee
DTSTART;TZID=Europe/Berlin:20260425T110000
DTEND;TZID=Europe/Berlin:20260425T235959
LOCATION:Rennweg 6\, 8410 Wildon\, Österreich
GEO:46.889083;15.505517
X-APPLE-STRUCTURED-LOCATION;VALUE=URI;X-ADDRESS=Rennweg 6\, 8410 Wildon\, 
 Österreich;X-APPLE-RADIUS=49;X-TITLE=:geo:46.889083,15.505517
URL;VALUE=URI:https://hey-schweiz.com/events/694317
END:VEVENT
END:VCALENDAR
