BEGIN:VCALENDAR
PRODID:-//eluceo/ical//2.0/EN
VERSION:2.0
CALSCALE:GREGORIAN
BEGIN:VEVENT
UID:hey.bayern.694374.6551015
DTSTAMP:20260422T062134Z
SUMMARY:Werden Sie "Master of Reindling"
DTSTART;TZID=Europe/Berlin:20260521T133000
DTEND;TZID=Europe/Berlin:20260521T173000
LOCATION:Unterer Platz 4\, 9300 St. Veit an der Glan\, Österreich
GEO:46.768228;14.358676
X-APPLE-STRUCTURED-LOCATION;VALUE=URI;X-ADDRESS=Unterer Platz 4\, 9300 St. 
 Veit an der Glan\, Österreich;X-APPLE-RADIUS=49;X-TITLE=:geo:46.768228,14
 .358676
URL;VALUE=URI:https://hey-schweiz.com/events/694374
END:VEVENT
END:VCALENDAR
