BEGIN:VCALENDAR
PRODID:-//eluceo/ical//2.0/EN
VERSION:2.0
CALSCALE:GREGORIAN
BEGIN:VEVENT
UID:hey.bayern.694397.6554164
DTSTAMP:20260422T125224Z
SUMMARY:Aussee bleibt mir das Schönste
DTSTART;TZID=Europe/Berlin:20260703T200000
DTEND;TZID=Europe/Berlin:20260703T235959
LOCATION:Fischerndorf 61\, 8992 Altaussee\, Österreich
URL;VALUE=URI:https://hey-schweiz.com/events/694397
END:VEVENT
END:VCALENDAR
