BEGIN:VCALENDAR
PRODID:-//eluceo/ical//2.0/EN
VERSION:2.0
CALSCALE:GREGORIAN
BEGIN:VEVENT
UID:hey.bayern.694416.6554223
DTSTAMP:20260422T125345Z
SUMMARY:Die ganze Welt ist Himmelblau
DTSTART;TZID=Europe/Berlin:20260730T200000
DTEND;TZID=Europe/Berlin:20260730T235959
LOCATION:Fischerndorf 61\, 8992 Altaussee\, Österreich
URL;VALUE=URI:https://hey-schweiz.com/events/694416
END:VEVENT
END:VCALENDAR
