BEGIN:VCALENDAR
PRODID:-//eluceo/ical//2.0/EN
VERSION:2.0
CALSCALE:GREGORIAN
BEGIN:VEVENT
UID:hey.bayern.694532.6552707
DTSTAMP:20260421T110703Z
SUMMARY:Women in Jazz: Max Johnson Trio
DTSTART;TZID=Europe/Berlin:20261007T200000
DTEND;TZID=Europe/Berlin:20261007T235900
LOCATION:Hauptplatz 4\, 4020 Linz\, Österreich
GEO:48.306524;14.286523
X-APPLE-STRUCTURED-LOCATION;VALUE=URI;X-ADDRESS=Hauptplatz 4\, 4020 Linz\, 
 Österreich;X-APPLE-RADIUS=49;X-TITLE=:geo:48.306524,14.286523
URL;VALUE=URI:https://hey-schweiz.com/events/694532
END:VEVENT
END:VCALENDAR
