BEGIN:VCALENDAR
PRODID:-//eluceo/ical//2.0/EN
VERSION:2.0
CALSCALE:GREGORIAN
BEGIN:VEVENT
UID:hey.bayern.694611.6553495
DTSTAMP:20260421T030528Z
SUMMARY:8. Laakirchner Hofroas
DTSTART;TZID=Europe/Berlin:20260830T100000
DTEND;TZID=Europe/Berlin:20260830T170000
LOCATION:Rathausplatz 1\, 4663 Laakirchen\, Österreich
GEO:47.983231;13.823184
X-APPLE-STRUCTURED-LOCATION;VALUE=URI;X-ADDRESS=Rathausplatz 1\, 4663 Laaki
 rchen\, Österreich;X-APPLE-RADIUS=49;X-TITLE=:geo:47.983231,13.823184
URL;VALUE=URI:https://hey-schweiz.com/events/694611
END:VEVENT
END:VCALENDAR
