BEGIN:VCALENDAR
PRODID:-//eluceo/ical//2.0/EN
VERSION:2.0
CALSCALE:GREGORIAN
BEGIN:VEVENT
UID:hey.bayern.694618.6553673
DTSTAMP:20260421T065704Z
SUMMARY:Charity Konzert - Hot Pants Road Club
DTSTART;TZID=Europe/Berlin:20260619T183000
DTEND;TZID=Europe/Berlin:20260619T235900
LOCATION:Stelzhamerstraße 9\, 4600 Wels\, Österreich
GEO:48.160628;14.026436
X-APPLE-STRUCTURED-LOCATION;VALUE=URI;X-ADDRESS=Stelzhamerstraße 9\, 4600 
 Wels\, Österreich;X-APPLE-RADIUS=49;X-TITLE=:geo:48.160628,14.026436
URL;VALUE=URI:https://hey-schweiz.com/events/694618
END:VEVENT
END:VCALENDAR
